Workbook
Name alya1: Calendrier!$AO$5
Name alya10: Calendrier!$AO$14
Name alya11: Calendrier!$AO$15
Name alya12: Calendrier!$AO$16
Name alya13: Calendrier!$AO$17
Name alya14: Calendrier!$AO$18
Name alya15: Calendrier!$AO$19
Name alya16: Calendrier!$AO$20
Name alya17: Calendrier!$AO$21
Name alya18: Calendrier!$AO$22
Name alya19: Calendrier!$AO$23
Name alya2: Calendrier!$AO$6
Name alya20: Calendrier!$AO$24
Name alya21: Calendrier!$AO$25
Name alya22: Calendrier!$AO$26
Name alya23: Calendrier!$AO$27
Name alya24: Calendrier!$AO$28
Name alya25: Calendrier!$AO$29
Name alya26: Calendrier!$AO$30
Name alya27: Calendrier!$AO$31
Name alya28: Calendrier!$AO$32
Name alya29: Calendrier!$AO$33
Name alya3: Calendrier!$AO$7
Name alya30: Calendrier!$AO$34
Name alya31: Calendrier!$AO$35
Name alya32: Calendrier!$AO$36
Name alya33: Calendrier!$AO$37
Name alya34: Calendrier!$AO$38
Name alya35: Calendrier!$AO$39
Name alya36: Calendrier!$AO$40
Name alya37: Calendrier!$AO$41
Name alya38: Calendrier!$AO$42
Name alya39: Calendrier!$AO$43
Name alya4: Calendrier!$AO$8
Name alya40: Calendrier!$AO$44
Name alya41: Calendrier!$AO$45
Name alya42: Calendrier!$AO$46
Name alya43: Calendrier!$AO$47
Name alya44: Calendrier!$AO$48
Name alya45: Calendrier!$AO$49
Name alya46: Calendrier!$AO$50
Name alya47: Calendrier!$AO$51
Name alya48: Calendrier!$AO$52
Name alya49: Calendrier!$AO$53
Name alya5: Calendrier!$AO$9
Name alya50: Calendrier!$AO$54
Name alya51: Calendrier!$AO$55
Name alya52: Calendrier!$AO$56
Name alya53: Calendrier!$AO$57
Name alya54: Calendrier!$AO$58
Name alya55: Calendrier!$AO$59
Name alya56: Calendrier!$AO$60
Name alya57: Calendrier!$AO$61
Name alya58: Calendrier!$AO$62
Name alya59: Calendrier!$AO$63
Name alya6: Calendrier!$AO$10
Name alya60: Calendrier!$AO$64
Name alya61: Calendrier!$AO$65
Name alya62: Calendrier!$AO$66
Name alya63: Calendrier!$AO$67

Sheet Calendrier
C3: CALENDRIER | AA3: Rappel/Vacances/Evénement | AG3: Color Code | AM3: Conditional Formatting Date Ref | AQ3: Month
AA4: Date | AM4: Start Date | AN4: End Date | AO4: Code | AQ4: JANVIER | AR4: 1
AA5: FEVRIER | AB5: 12 | AC5: =IF(AD5<>"","-","") -> - | AD5: 13 | AE5: Evénement 1 | AF5: t | AG5: C1 | AM5: =IF(AB5<>"",DATE(2018,INDEX(MonthNo,MATCH(Calendrier!AA5,MonthName,0),0),Calendrier!AB5),"") -> 43143 | AN5: =IF(AB5<>"",IF(AD5<>"",DATE(2018,INDEX(MonthNo,MATCH(Calendrier!AA5,MonthName,0),0),Calendrier!AD5),AM5),"") -> 43144 | AO5: =AG5 -> C1 | AQ5: FEVRIER | AR5: 2
AA6: MARS | AB6: 16 | AC6: =IF(AD6<>"","-","") | AE6: Evénement 2 | AF6: t | AG6: C2 | AM6: =IF(AB6<>"",DATE(2018,INDEX(MonthNo,MATCH(Calendrier!AA6,MonthName,0),0),Calendrier!AB6),"") -> 43175 | AN6: =IF(AB6<>"",IF(AD6<>"",DATE(2018,INDEX(MonthNo,MATCH(Calendrier!AA6,MonthName,0),0),Calendrier!AD6),AM6),"") -> 43175 | AO6: =AG6 -> C2 | AQ6: MARS | AR6: 3
C7: 2018 | AA7: JUIN | AB7: 1 | AC7: =IF(AD7<>"","-","") -> - | AD7: 4 | AE7: Evénement 3 | AF7: t | AG7: C3 | AM7: =IF(AB7<>"",DATE(2018,INDEX(MonthNo,MATCH(Calendrier!AA7,MonthName,0),0),Calendrier!AB7),"") -> 43252 | AN7: =IF(AB7<>"",IF(AD7<>"",DATE(2018,INDEX(MonthNo,MATCH(Calendrier!AA7,MonthName,0),0),Calendrier!AD7),AM7),"") -> 43255 | AO7: =AG7 -> C3 | AQ7: AVRIL | AR7: 4
AA8: AOUT | AB8: 8 | AC8: =IF(AD8<>"","-","") -> - | AD8: 12 | AE8: Evénement 4 | AF8: t | AG8: C1 | AM8: =IF(AB8<>"",DATE(2018,INDEX(MonthNo,MATCH(Calendrier!AA8,MonthName,0),0),Calendrier!AB8),"") -> 43320 | AN8: =IF(AB8<>"",IF(AD8<>"",DATE(2018,INDEX(MonthNo,MATCH(Calendrier!AA8,MonthName,0),0),Calendrier!AD8),AM8),"") -> 43324 | AO8: =AG8 -> C1 | AQ8: MAI | AR8: 5
AA9: DECEMBRE | AB9: 1 | AC9: =IF(AD9<>"","-","") -> - | AD9: 4 | AE9: Evénement 5 | AF9: t | AG9: C4 | AM9: =IF(AB9<>"",DATE(2018,INDEX(MonthNo,MATCH(Calendrier!AA9,MonthName,0),0),Calendrier!AB9),"") -> 43435 | AN9: =IF(AB9<>"",IF(AD9<>"",DATE(2018,INDEX(MonthNo,MATCH(Calendrier!AA9,MonthName,0),0),Calendrier!AD9),AM9),"") -> 43438 | AO9: =AG9 -> C4 | AQ9: JUIN | AR9: 6
AC10: =IF(AD10<>"","-","") | AF10: t | AM10: =IF(AB10<>"",DATE(2018,INDEX(MonthNo,MATCH(Calendrier!AA10,MonthName,0),0),Calendrier!AB10),"") | AN10: =IF(AB10<>"",IF(AD10<>"",DATE(2018,INDEX(MonthNo,MATCH(Calendrier!AA10,MonthName,0),0),Calendrier!AD10),AM10),"") | AO10: =AG10 -> 0 | AQ10: JUILLET | AR10: 7
AC11: =IF(AD11<>"","-","") | AF11: t | AM11: =IF(AB11<>"",DATE(2018,INDEX(MonthNo,MATCH(Calendrier!AA11,MonthName,0),0),Calendrier!AB11),"") | AN11: =IF(AB11<>"",IF(AD11<>"",DATE(2018,INDEX(MonthNo,MATCH(Calendrier!AA11,MonthName,0),0),Calendrier!AD11),AM11),"") | AO11: =AG11 -> 0 | AQ11: AOUT | AR11: 8
C12: JANVIER | K12: FEVRIER | S12: MARS | AC12: =IF(AD12<>"","-","") | AF12: t | AM12: =IF(AB12<>"",DATE(2018,INDEX(MonthNo,MATCH(Calendrier!AA12,MonthName,0),0),Calendrier!AB12),"") | AN12: =IF(AB12<>"",IF(AD12<>"",DATE(2018,INDEX(MonthNo,MATCH(Calendrier!AA12,MonthName,0),0),Calendrier!AD12),AM12),"") | AO12: =AG12 -> 0 | AQ12: SEPTEMBRE | AR12: 9
C13: L | D13: M | E13: M | F13: J | G13: V | H13: S | I13: D | K13: L | L13: M | M13: M | N13: J | O13: V | P13: S | Q13: D | S13: L | T13: M | U13: M | V13: J | W13: V | X13: S | Y13: D | AC13: =IF(AD13<>"","-","") | AF13: t | AM13: =IF(AB13<>"",DATE(2018,INDEX(MonthNo,MATCH(Calendrier!AA13,MonthName,0),0),Calendrier!AB13),"") | AN13: =IF(AB13<>"",IF(AD13<>"",DATE(2018,INDEX(MonthNo,MATCH(Calendrier!AA13,MonthName,0),0),Calendrier!AD13),AM13),"") | AO13: =AG13 -> 0 | AQ13: OCTOBRE | AR13: 10
C14: 43101 | D14: 43102 | E14: 43103 | F14: 43104 | G14: 43105 | H14: 43106 | I14: 43107 | N14: 43132 | O14: 43133 | P14: 43134 | Q14: 43135 | V14: 43160 | W14: 43161 | X14: 43162 | Y14: 43163 | AC14: =IF(AD14<>"","-","") | AF14: t | AM14: =IF(AB14<>"",DATE(2018,INDEX(MonthNo,MATCH(Calendrier!AA14,MonthName,0),0),Calendrier!AB14),"") | AN14: =IF(AB14<>"",IF(AD14<>"",DATE(2018,INDEX(MonthNo,MATCH(Calendrier!AA14,MonthName,0),0),Calendrier!AD14),AM14),"") | AO14: =AG14 -> 0 | AQ14: NOVEMBRE | AR14: 11
C15: 43108 | D15: 43109 | E15: 43110 | F15: 43111 | G15: 43112 | H15: 43113 | I15: 43114 | K15: 43136 | L15: 43137 | M15: 43138 | N15: 43139 | O15: 43140 | P15: 43141 | Q15: 43142 | S15: 43164 | T15: 43165 | U15: 43166 | V15: 43167 | W15: 43168 | X15: 43169 | Y15: 43170 | AC15: =IF(AD15<>"","-","") | AF15: t | AM15: =IF(AB15<>"",DATE(2018,INDEX(MonthNo,MATCH(Calendrier!AA15,MonthName,0),0),Calendrier!AB15),"") | AN15: =IF(AB15<>"",IF(AD15<>"",DATE(2018,INDEX(MonthNo,MATCH(Calendrier!AA15,MonthName,0),0),Calendrier!AD15),AM15),"") | AO15: =AG15 -> 0 | AQ15: DECEMBRE | AR15: 12
C16: 43115 | D16: 43116 | E16: 43117 | F16: 43118 | G16: 43119 | H16: 43120 | I16: 43121 | K16: 43143 | L16: 43144 | M16: 43145 | N16: 43146 | O16: 43147 | P16: 43148 | Q16: 43149 | S16: 43171 | T16: 43172 | U16: 43173 | V16: 43174 | W16: 43175 | X16: 43176 | Y16: 43177 | AC16: =IF(AD16<>"","-","") | AF16: t | AM16: =IF(AB16<>"",DATE(2018,INDEX(MonthNo,MATCH(Calendrier!AA16,MonthName,0),0),Calendrier!AB16),"") | AN16: =IF(AB16<>"",IF(AD16<>"",DATE(2018,INDEX(MonthNo,MATCH(Calendrier!AA16,MonthName,0),0),Calendrier!AD16),AM16),"") | AO16: =AG16 -> 0
C17: 43122 | D17: 43123 | E17: 43124 | F17: 43125 | G17: 43126 | H17: 43127 | I17: 43128 | K17: 43150 | L17: 43151 | M17: 43152 | N17: 43153 | O17: 43154 | P17: 43155 | Q17: 43156 | S17: 43178 | T17: 43179 | U17: 43180 | V17: 43181 | W17: 43182 | X17: 43183 | Y17: 43184 | AC17: =IF(AD17<>"","-","") | AF17: t | AI17: Description | AJ17: Code | AM17: =IF(AB17<>"",DATE(2018,INDEX(MonthNo,MATCH(Calendrier!AA17,MonthName,0),0),Calendrier!AB17),"") | AN17: =IF(AB17<>"",IF(AD17<>"",DATE(2018,INDEX(MonthNo,MATCH(Calendrier!AA17,MonthName,0),0),Calendrier!AD17),AM17),"") | AO17: =AG17 -> 0
C18: 43129 | D18: 43130 | E18: 43131 | K18: 43157 | L18: 43158 | M18: 43159 | S18: 43185 | T18: 43186 | U18: 43187 | V18: 43188 | W18: 43189 | X18: 43190 | AC18: =IF(AD18<>"","-","") | AF18: t | AI18: Description 1 | AJ18: C1 | AM18: =IF(AB18<>"",DATE(2018,INDEX(MonthNo,MATCH(Calendrier!AA18,MonthName,0),0),Calendrier!AB18),"") | AN18: =IF(AB18<>"",IF(AD18<>"",DATE(2018,INDEX(MonthNo,MATCH(Calendrier!AA18,MonthName,0),0),Calendrier!AD18),AM18),"") | AO18: =AG18 -> 0
AC19: =IF(AD19<>"","-","") | AF19: t | AI19: Description 2 | AJ19: C2 | AM19: =IF(AB19<>"",DATE(2018,INDEX(MonthNo,MATCH(Calendrier!AA19,MonthName,0),0),Calendrier!AB19),"") | AN19: =IF(AB19<>"",IF(AD19<>"",DATE(2018,INDEX(MonthNo,MATCH(Calendrier!AA19,MonthName,0),0),Calendrier!AD19),AM19),"") | AO19: =AG19 -> 0
AC20: =IF(AD20<>"","-","") | AF20: t | AI20: Description 3 | AJ20: C3 | AM20: =IF(AB20<>"",DATE(2018,INDEX(MonthNo,MATCH(Calendrier!AA20,MonthName,0),0),Calendrier!AB20),"") | AN20: =IF(AB20<>"",IF(AD20<>"",DATE(2018,INDEX(MonthNo,MATCH(Calendrier!AA20,MonthName,0),0),Calendrier!AD20),AM20),"") | AO20: =AG20 -> 0
C21: AVRIL | K21: MAI | S21: JUIN | AC21: =IF(AD21<>"","-","") | AF21: t | AI21: Description 4 | AJ21: C4 | AM21: =IF(AB21<>"",DATE(2018,INDEX(MonthNo,MATCH(Calendrier!AA21,MonthName,0),0),Calendrier!AB21),"") | AN21: =IF(AB21<>"",IF(AD21<>"",DATE(2018,INDEX(MonthNo,MATCH(Calendrier!AA21,MonthName,0),0),Calendrier!AD21),AM21),"") | AO21: =AG21 -> 0
C22: L | D22: M | E22: M | F22: J | G22: V | H22: S | I22: D | K22: L | L22: M | M22: M | N22: J | O22: V | P22: S | Q22: D | S22: L | T22: M | U22: M | V22: J | W22: V | X22: S | Y22: D | AC22: =IF(AD22<>"","-","") | AF22: t | AM22: =IF(AB22<>"",DATE(2018,INDEX(MonthNo,MATCH(Calendrier!AA22,MonthName,0),0),Calendrier!AB22),"") | AN22: =IF(AB22<>"",IF(AD22<>"",DATE(2018,INDEX(MonthNo,MATCH(Calendrier!AA22,MonthName,0),0),Calendrier!AD22),AM22),"") | AO22: =AG22 -> 0
I23: 43191 | L23: 43221 | M23: 43222 | N23: 43223 | O23: 43224 | P23: 43225 | Q23: 43226 | W23: 43252 | X23: 43253 | Y23: 43254 | AC23: =IF(AD23<>"","-","") | AF23: t | AM23: =IF(AB23<>"",DATE(2018,INDEX(MonthNo,MATCH(Calendrier!AA23,MonthName,0),0),Calendrier!AB23),"") | AN23: =IF(AB23<>"",IF(AD23<>"",DATE(2018,INDEX(MonthNo,MATCH(Calendrier!AA23,MonthName,0),0),Calendrier!AD23),AM23),"") | AO23: =AG23 -> 0
C24: 43192 | D24: 43193 | E24: 43194 | F24: 43195 | G24: 43196 | H24: 43197 | I24: 43198 | K24: 43227 | L24: 43228 | M24: 43229 | N24: 43230 | O24: 43231 | P24: 43232 | Q24: 43233 | S24: 43255 | T24: 43256 | U24: 43257 | V24: 43258 | W24: 43259 | X24: 43260 | Y24: 43261 | AC24: =IF(AD24<>"","-","") | AF24: t | AM24: =IF(AB24<>"",DATE(2018,INDEX(MonthNo,MATCH(Calendrier!AA24,MonthName,0),0),Calendrier!AB24),"") | AN24: =IF(AB24<>"",IF(AD24<>"",DATE(2018,INDEX(MonthNo,MATCH(Calendrier!AA24,MonthName,0),0),Calendrier!AD24),AM24),"") | AO24: =AG24 -> 0
C25: 43199 | D25: 43200 | E25: 43201 | F25: 43202 | G25: 43203 | H25: 43204 | I25: 43205 | K25: 43234 | L25: 43235 | M25: 43236 | N25: 43237 | O25: 43238 | P25: 43239 | Q25: 43240 | S25: 43262 | T25: 43263 | U25: 43264 | V25: 43265 | W25: 43266 | X25: 43267 | Y25: 43268 | AC25: =IF(AD25<>"","-","") | AF25: t | AM25: =IF(AB25<>"",DATE(2018,INDEX(MonthNo,MATCH(Calendrier!AA25,MonthName,0),0),Calendrier!AB25),"") | AN25: =IF(AB25<>"",IF(AD25<>"",DATE(2018,INDEX(MonthNo,MATCH(Calendrier!AA25,MonthName,0),0),Calendrier!AD25),AM25),"") | AO25: =AG25 -> 0
C26: 43206 | D26: 43207 | E26: 43208 | F26: 43209 | G26: 43210 | H26: 43211 | I26: 43212 | K26: 43241 | L26: 43242 | M26: 43243 | N26: 43244 | O26: 43245 | P26: 43246 | Q26: 43247 | S26: 43269 | T26: 43270 | U26: 43271 | V26: 43272 | W26: 43273 | X26: 43274 | Y26: 43275 | AC26: =IF(AD26<>"","-","") | AF26: t | AM26: =IF(AB26<>"",DATE(2018,INDEX(MonthNo,MATCH(Calendrier!AA26,MonthName,0),0),Calendrier!AB26),"") | AN26: =IF(AB26<>"",IF(AD26<>"",DATE(2018,INDEX(MonthNo,MATCH(Calendrier!AA26,MonthName,0),0),Calendrier!AD26),AM26),"") | AO26: =AG26 -> 0
C27: 43213 | D27: 43214 | E27: 43215 | F27: 43216 | G27: 43217 | H27: 43218 | I27: 43219 | K27: 43248 | L27: 43249 | M27: 43250 | N27: 43251 | S27: 43276 | T27: 43277 | U27: 43278 | V27: 43279 | W27: 43280 | X27: 43281 | AC27: =IF(AD27<>"","-","") | AF27: t | AI27: Colorize Description | AJ27: Yes | AM27: =IF(AB27<>"",DATE(2018,INDEX(MonthNo,MATCH(Calendrier!AA27,MonthName,0),0),Calendrier!AB27),"") | AN27: =IF(AB27<>"",IF(AD27<>"",DATE(2018,INDEX(MonthNo,MATCH(Calendrier!AA27,MonthName,0),0),Calendrier!AD27),AM27),"") | AO27: =AG27 -> 0
C28: 43220 | AC28: =IF(AD28<>"","-","") | AF28: t | AM28: =IF(AB28<>"",DATE(2018,INDEX(MonthNo,MATCH(Calendrier!AA28,MonthName,0),0),Calendrier!AB28),"") | AN28: =IF(AB28<>"",IF(AD28<>"",DATE(2018,INDEX(MonthNo,MATCH(Calendrier!AA28,MonthName,0),0),Calendrier!AD28),AM28),"") | AO28: =AG28 -> 0
AC29: =IF(AD29<>"","-","") | AF29: t | AM29: =IF(AB29<>"",DATE(2018,INDEX(MonthNo,MATCH(Calendrier!AA29,MonthName,0),0),Calendrier!AB29),"") | AN29: =IF(AB29<>"",IF(AD29<>"",DATE(2018,INDEX(MonthNo,MATCH(Calendrier!AA29,MonthName,0),0),Calendrier!AD29),AM29),"") | AO29: =AG29 -> 0
C30: JUILLET | K30: AOUT | S30: SEPTEMBRE | AC30: =IF(AD30<>"","-","") | AF30: t | AM30: =IF(AB30<>"",DATE(2018,INDEX(MonthNo,MATCH(Calendrier!AA30,MonthName,0),0),Calendrier!AB30),"") | AN30: =IF(AB30<>"",IF(AD30<>"",DATE(2018,INDEX(MonthNo,MATCH(Calendrier!AA30,MonthName,0),0),Calendrier!AD30),AM30),"") | AO30: =AG30 -> 0
C31: L | D31: M | E31: M | F31: J | G31: V | H31: S | I31: D | K31: L | L31: M | M31: M | N31: J | O31: V | P31: S | Q31: D | S31: L | T31: M | U31: M | V31: J | W31: V | X31: S | Y31: D | AC31: =IF(AD31<>"","-","") | AF31: t | AM31: =IF(AB31<>"",DATE(2018,INDEX(MonthNo,MATCH(Calendrier!AA31,MonthName,0),0),Calendrier!AB31),"") | AN31: =IF(AB31<>"",IF(AD31<>"",DATE(2018,INDEX(MonthNo,MATCH(Calendrier!AA31,MonthName,0),0),Calendrier!AD31),AM31),"") | AO31: =AG31 -> 0
I32: 43282 | M32: 43313 | N32: 43314 | O32: 43315 | P32: 43316 | Q32: 43317 | X32: 43344 | Y32: 43345 | AC32: =IF(AD32<>"","-","") | AF32: t | AM32: =IF(AB32<>"",DATE(2018,INDEX(MonthNo,MATCH(Calendrier!AA32,MonthName,0),0),Calendrier!AB32),"") | AN32: =IF(AB32<>"",IF(AD32<>"",DATE(2018,INDEX(MonthNo,MATCH(Calendrier!AA32,MonthName,0),0),Calendrier!AD32),AM32),"") | AO32: =AG32 -> 0
C33: 43283 | D33: 43284 | E33: 43285 | F33: 43286 | G33: 43287 | H33: 43288 | I33: 43289 | K33: 43318 | L33: 43319 | M33: 43320 | N33: 43321 | O33: 43322 | P33: 43323 | Q33: 43324 | S33: 43346 | T33: 43347 | U33: 43348 | V33: 43349 | W33: 43350 | X33: 43351 | Y33: 43352 | AC33: =IF(AD33<>"","-","") | AF33: t | AM33: =IF(AB33<>"",DATE(2018,INDEX(MonthNo,MATCH(Calendrier!AA33,MonthName,0),0),Calendrier!AB33),"") | AN33: =IF(AB33<>"",IF(AD33<>"",DATE(2018,INDEX(MonthNo,MATCH(Calendrier!AA33,MonthName,0),0),Calendrier!AD33),AM33),"") | AO33: =AG33 -> 0
C34: 43290 | D34: 43291 | E34: 43292 | F34: 43293 | G34: 43294 | H34: 43295 | I34: 43296 | K34: 43325 | L34: 43326 | M34: 43327 | N34: 43328 | O34: 43329 | P34: 43330 | Q34: 43331 | S34: 43353 | T34: 43354 | U34: 43355 | V34: 43356 | W34: 43357 | X34: 43358 | Y34: 43359 | AC34: =IF(AD34<>"","-","") | AF34: t | AM34: =IF(AB34<>"",DATE(2018,INDEX(MonthNo,MATCH(Calendrier!AA34,MonthName,0),0),Calendrier!AB34),"") | AN34: =IF(AB34<>"",IF(AD34<>"",DATE(2018,INDEX(MonthNo,MATCH(Calendrier!AA34,MonthName,0),0),Calendrier!AD34),AM34),"") | AO34: =AG34 -> 0
C35: 43297 | D35: 43298 | E35: 43299 | F35: 43300 | G35: 43301 | H35: 43302 | I35: 43303 | K35: 43332 | L35: 43333 | M35: 43334 | N35: 43335 | O35: 43336 | P35: 43337 | Q35: 43338 | S35: 43360 | T35: 43361 | U35: 43362 | V35: 43363 | W35: 43364 | X35: 43365 | Y35: 43366 | AC35: =IF(AD35<>"","-","") | AF35: t | AM35: =IF(AB35<>"",DATE(2018,INDEX(MonthNo,MATCH(Calendrier!AA35,MonthName,0),0),Calendrier!AB35),"") | AN35: =IF(AB35<>"",IF(AD35<>"",DATE(2018,INDEX(MonthNo,MATCH(Calendrier!AA35,MonthName,0),0),Calendrier!AD35),AM35),"") | AO35: =AG35 -> 0
C36: 43304 | D36: 43305 | E36: 43306 | F36: 43307 | G36: 43308 | H36: 43309 | I36: 43310 | K36: 43339 | L36: 43340 | M36: 43341 | N36: 43342 | O36: 43343 | S36: 43367 | T36: 43368 | U36: 43369 | V36: 43370 | W36: 43371 | X36: 43372 | Y36: 43373 | AC36: =IF(AD36<>"","-","") | AF36: t | AM36: =IF(AB36<>"",DATE(2018,INDEX(MonthNo,MATCH(Calendrier!AA36,MonthName,0),0),Calendrier!AB36),"") | AN36: =IF(AB36<>"",IF(AD36<>"",DATE(2018,INDEX(MonthNo,MATCH(Calendrier!AA36,MonthName,0),0),Calendrier!AD36),AM36),"") | AO36: =AG36 -> 0
C37: 43311 | D37: 43312 | AC37: =IF(AD37<>"","-","") | AF37: t | AM37: =IF(AB37<>"",DATE(2018,INDEX(MonthNo,MATCH(Calendrier!AA37,MonthName,0),0),Calendrier!AB37),"") | AN37: =IF(AB37<>"",IF(AD37<>"",DATE(2018,INDEX(MonthNo,MATCH(Calendrier!AA37,MonthName,0),0),Calendrier!AD37),AM37),"") | AO37: =AG37 -> 0
AC38: =IF(AD38<>"","-","") | AF38: t | AM38: =IF(AB38<>"",DATE(2018,INDEX(MonthNo,MATCH(Calendrier!AA38,MonthName,0),0),Calendrier!AB38),"") | AN38: =IF(AB38<>"",IF(AD38<>"",DATE(2018,INDEX(MonthNo,MATCH(Calendrier!AA38,MonthName,0),0),Calendrier!AD38),AM38),"") | AO38: =AG38 -> 0
C39: OCTOBRE | K39: NOVEMBRE | S39: DECEMBRE | AC39: =IF(AD39<>"","-","") | AF39: t | AM39: =IF(AB39<>"",DATE(2018,INDEX(MonthNo,MATCH(Calendrier!AA39,MonthName,0),0),Calendrier!AB39),"") | AN39: =IF(AB39<>"",IF(AD39<>"",DATE(2018,INDEX(MonthNo,MATCH(Calendrier!AA39,MonthName,0),0),Calendrier!AD39),AM39),"") | AO39: =AG39 -> 0
C40: L | D40: M | E40: M | F40: J | G40: V | H40: S | I40: D | K40: L | L40: M | M40: M | N40: J | O40: V | P40: S | Q40: D | S40: L | T40: M | U40: M | V40: J | W40: V | X40: S | Y40: D | AC40: =IF(AD40<>"","-","") | AF40: t | AM40: =IF(AB40<>"",DATE(2018,INDEX(MonthNo,MATCH(Calendrier!AA40,MonthName,0),0),Calendrier!AB40),"") | AN40: =IF(AB40<>"",IF(AD40<>"",DATE(2018,INDEX(MonthNo,MATCH(Calendrier!AA40,MonthName,0),0),Calendrier!AD40),AM40),"") | AO40: =AG40 -> 0
C41: 43374 | D41: 43375 | E41: 43376 | F41: 43377 | G41: 43378 | H41: 43379 | I41: 43380 | N41: 43405 | O41: 43406 | P41: 43407 | Q41: 43408 | X41: 43435 | Y41: 43436 | AC41: =IF(AD41<>"","-","") | AF41: t | AM41: =IF(AB41<>"",DATE(2018,INDEX(MonthNo,MATCH(Calendrier!AA41,MonthName,0),0),Calendrier!AB41),"") | AN41: =IF(AB41<>"",IF(AD41<>"",DATE(2018,INDEX(MonthNo,MATCH(Calendrier!AA41,MonthName,0),0),Calendrier!AD41),AM41),"") | AO41: =AG41 -> 0
C42: 43381 | D42: 43382 | E42: 43383 | F42: 43384 | G42: 43385 | H42: 43386 | I42: 43387 | K42: 43409 | L42: 43410 | M42: 43411 | N42: 43412 | O42: 43413 | P42: 43414 | Q42: 43415 | S42: 43437 | T42: 43438 | U42: 43439 | V42: 43440 | W42: 43441 | X42: 43442 | Y42: 43443 | AC42: =IF(AD42<>"","-","") | AF42: t | AM42: =IF(AB42<>"",DATE(2018,INDEX(MonthNo,MATCH(Calendrier!AA42,MonthName,0),0),Calendrier!AB42),"") | AN42: =IF(AB42<>"",IF(AD42<>"",DATE(2018,INDEX(MonthNo,MATCH(Calendrier!AA42,MonthName,0),0),Calendrier!AD42),AM42),"") | AO42: =AG42 -> 0
...

Sheet About
C3: 2018 Calendar
C4: Model 5
C5: Version 2.6
C6: License : Personal Use
C7: Copyrights (c) 2017 exceltemplate.net
C8: All rights reserved
C10: More template information : exceltemplate.net
B20: No | C20: Calendar | D20: Free | E20: Paid | G20: You can purchase the unlocked version for USD 5.00 through paypal button below
B21: 1 | C21: Model | D21: 1, 2, 3, 5, 7, 8, 11, 13, 14 | E21: 1, 2, 3, 4, 5, 6, 7, 8, 9, 10, 11, 12, 13, 14
B22: 2 | C22: Number of Color Codes | D22: 6 Codes - Model 1, 2, 3, 8 | E22: 6 Codes - Model 1, 2, 3, 8
D23: 4 Codes - Model 5, 7, 11 | E23: 8 Codes - Model 4, 5, 6, 7, 9, 10, 11, 12 15 Codes - Model 15
B24: 3 | C24: Starting Day | D24: Sunday, Monday (excel model 3, 8, 13, 14) | E24: Sunday, Monday (excel model 3, 8, 13, 14)
B25: 4 | C25: Layout Customization | D25: No | E25: Yes
B26: 5 | C26: Formula Tweaking | D26: No | E26: Yes
B27: 6 | C27: Unprotected Worksheet/Workbook | D27: No | E27: Yes | G27: You will receive 15 Fully Unlocked 2018 Calendar Templates, as listed at the left table
B28: Notes : Model 13 and 14 are monthly calendars
B31: No | C31: Calendar Model | E31: Notes
B32: 1 | D32: One page landscape calendar, event description in separate worksheet, fixed and consecutive dates in separate tables
B33: 2 | D33: One page portrait calendar, event description in the middle of calendar within the same page, fixed and consecutive dates in separate tables
B34: 3 | D34: One page linear calendar, event description at the bottom of calendar within the same page, fixed and consecutive dates in separate tables | E34: Start at Monday only
B35: 4 | D35: One page portrait calendar, event description at the left side of calendar within the same page, fixed and consecutive dates within the same table
B36: 5 | D36: One page landscape calendar, event description at the right side of calendar within the same page, fixed and consecutive dates within the same table
B37: 6 | D37: One page portrait calendar, event description at the right side of calendar within the same page, fixed and consecutive dates within the same table
B38: 7 | D38: One page linear calendar, event description at the bottom of calendar within the same page, fixed and consecutive dates within the same table, divided by months
B39: 8 | D39: One page linear calendar, similar months in 3 rows, event description at the bottom of calendar within the same page, fixed and consecutive dates in separate tables | E39: Start at Monday only
B40: 9 | D40: One page landscape calendar, months are split into 2 parts, event description at the bottom of calendar within the same page, fixed and consecutive dates within the same table, divided by months
B41: 10 | D41: One page portrait calendar, months are splitted into 2 parts, event description at the right side of each calendar parts within the same page, fixed and consecutive dates within the same table, divided by months
B42: 11 | D42: One page portrait calendar, months are splitted into 2 parts, event description at the left and right side of each calendar parts within the same page, fixed and consecutive dates within the same table
B43: 12 | D43: One page portrait calendar, months are splitted into 2 parts, event description in the middle at the left and right side of each calendar parts within the same page, fixed and consecutive dates within the same table
B44: 13 | D44: Monthly calendar, each month in separate worksheets, events are typed in separate worksheet. Respective events will be shown in respective months. | E44: One dummy worksheet remains hidden and protected with password Start at Sunday only
B45: 14 | D45: Monthly calendar, each month in separate worksheets, events are typed in each month worksheets. Events will be pulled into event table in separate worksheet. | E45: Start at Sunday only
B46: 15 | D46: One Year Linear Calendar with Gantt Chart style. All months are spreaded to the right. Event description are at the left side of the table. Date markers will be based on date period put in date period table.
